BEGIN:VCALENDAR
VERSION:2.0
PRODID:icalendar-ruby
CALSCALE:GREGORIAN
METHOD:PUBLISH
BEGIN:VEVENT
DTSTAMP:20260421T152957Z
UID:6-539581@holycrosshackett.org.au
DTSTART:20261017T220000Z
DTEND:20261017T231500Z
CLASS:PUBLIC
CREATED:20260422T003031
DESCRIPTION:Join us in our Sunday service! During school terms\, we regular
 ly run a kids' ministry\, and are open to families!\nIf you can't join us 
 in person\, we broadcast every week on Zoom.
LAST-MODIFIED:20260422T003031
LOCATION:
SUMMARY:Sunday Eucharist
URL;VALUE=URI:https://holycrosshackett.org.au/events/sunday-eucharist/2026-
 10-18
ATTACH;FILENAME=SunEventImage.png;FMTTYPE=image/png:https://dq5pwpg1q8ru0.c
 loudfront.net/2025/01/29/04/35/21/c549c5d5-f960-4db5-b87d-09aeea117d8f/Sun
 EventImage.png
END:VEVENT
END:VCALENDAR
